BEGIN:VCALENDAR
VERSION:2.0
PRODID:-//GS Valgerola - ECPv6.15.20//NONSGML v1.0//EN
CALSCALE:GREGORIAN
METHOD:PUBLISH
X-WR-CALNAME:GS Valgerola
X-ORIGINAL-URL:https://www.gsvalgerola.it
X-WR-CALDESC:Eventi per GS Valgerola
REFRESH-INTERVAL;VALUE=DURATION:PT1H
X-Robots-Tag:noindex
X-PUBLISHED-TTL:PT1H
BEGIN:VTIMEZONE
TZID:Europe/Helsinki
BEGIN:DAYLIGHT
TZOFFSETFROM:+0200
TZOFFSETTO:+0300
TZNAME:EEST
DTSTART:20210328T010000
END:DAYLIGHT
BEGIN:STANDARD
TZOFFSETFROM:+0300
TZOFFSETTO:+0200
TZNAME:EET
DTSTART:20211031T010000
END:STANDARD
BEGIN:DAYLIGHT
TZOFFSETFROM:+0200
TZOFFSETTO:+0300
TZNAME:EEST
DTSTART:20220327T010000
END:DAYLIGHT
BEGIN:STANDARD
TZOFFSETFROM:+0300
TZOFFSETTO:+0200
TZNAME:EET
DTSTART:20221030T010000
END:STANDARD
BEGIN:DAYLIGHT
TZOFFSETFROM:+0200
TZOFFSETTO:+0300
TZNAME:EEST
DTSTART:20230326T010000
END:DAYLIGHT
BEGIN:STANDARD
TZOFFSETFROM:+0300
TZOFFSETTO:+0200
TZNAME:EET
DTSTART:20231029T010000
END:STANDARD
END:VTIMEZONE
BEGIN:VEVENT
DTSTART;VALUE=DATE:20220703
DTEND;VALUE=DATE:20220704
DTSTAMP:20260419T222845
CREATED:20220703T171434Z
LAST-MODIFIED:20220703T171811Z
UID:17995-1656806400-1656892799@www.gsvalgerola.it
SUMMARY:39ª Sgambata Gerolese
DESCRIPTION:Classifica sgambata gerolese 2022
URL:https://www.gsvalgerola.it/evento/39a-sgambata-gerolese/
LOCATION:SO
CATEGORIES:Camminata,Montagna
END:VEVENT
BEGIN:VEVENT
DTSTART;VALUE=DATE:20220717
DTEND;VALUE=DATE:20220718
DTSTAMP:20260419T222845
CREATED:20220625T175632Z
LAST-MODIFIED:20220717T182040Z
UID:17969-1658016000-1658102399@www.gsvalgerola.it
SUMMARY:18ª Camminata al Rifugio della Corte
DESCRIPTION:  \n\n 
URL:https://www.gsvalgerola.it/evento/18a-camminata-al-rifugio-della-corte/
LOCATION:Rifugio della Corte\, Cosio Valtellino\, Italia
CATEGORIES:Camminata,Eventi Società,Montagna
ORGANIZER;CN="GS VALGEROLA":MAILTO:info@gsvalgerola.it
END:VEVENT
END:VCALENDAR